BEGIN:VCALENDAR
VERSION:2.0
PRODID:-//https://www.legalaiddc.org//NONSGML iCalcreator 2.41.92//
CALSCALE:GREGORIAN
METHOD:PUBLISH
UID:34396130-6465-4362-b866-623763633962
X-WR-RELCALID:e7bbd1ea-d762-487a-a96d-d6a6012d1176
X-WR-TIMEZONE:America/New_York
X-WR-CALNAME:ical
BEGIN:VTIMEZONE
TZID:America/New_York
TZUNTIL:20271107T060000Z
BEGIN:STANDARD
TZNAME:EST
DTSTART:20251102T020000
TZOFFSETFROM:-0400
TZOFFSETTO:-0500
RDATE:20261101T020000
END:STANDARD
BEGIN:DAYLIGHT
TZNAME:EDT
DTSTART:20260308T020000
TZOFFSETFROM:-0500
TZOFFSETTO:-0400
RDATE:20270314T020000
END:DAYLIGHT
END:VTIMEZONE
BEGIN:VEVENT
UID:1f5386c9-5477-4da0-919b-23c4238a18ee
DTSTAMP:20260423T203057Z
CLASS:PUBLIC
CREATED:20260423T163529Z
DESCRIPTION:<a href='https://www.legalaiddc.org/events/dc-childcare-connect
 ions-garden-fair-and-plant-sale' hreflang='en'>DC Childcare Connections Ga
 rden Fair and Plant Sale</a>
DTSTART;TZID=America/New_York:20260425T100000
DTEND;TZID=America/New_York:20260425T140000
LAST-MODIFIED:20260423T165341Z
LOCATION:<p>National Arboretum<br>3501 New York Ave. NE </p>
SUMMARY:DC Childcare Connections Garden Fair and Plant Sale
TRANSP:OPAQUE
END:VEVENT
END:VCALENDAR
