BEGIN:VCALENDAR
VERSION:2.0
PRODID:-//https://www.legalaiddc.org//NONSGML iCalcreator 2.41.92//
CALSCALE:GREGORIAN
METHOD:PUBLISH
UID:39623335-3161-4439-b563-626563643065
X-WR-RELCALID:e7bbd1ea-d762-487a-a96d-d6a6012d1176
X-WR-TIMEZONE:America/New_York
X-WR-CALNAME:ical
BEGIN:VTIMEZONE
TZID:America/New_York
TZUNTIL:20271107T060000Z
BEGIN:STANDARD
TZNAME:EST
DTSTART:20251102T020000
TZOFFSETFROM:-0400
TZOFFSETTO:-0500
RDATE:20261101T020000
END:STANDARD
BEGIN:DAYLIGHT
TZNAME:EDT
DTSTART:20260308T020000
TZOFFSETFROM:-0500
TZOFFSETTO:-0400
RDATE:20270314T020000
END:DAYLIGHT
END:VTIMEZONE
BEGIN:VEVENT
UID:083ba246-559b-4c78-aa5c-d1db4b5fd8ed
DTSTAMP:20260423T203100Z
CLASS:PUBLIC
CREATED:20260423T165401Z
DESCRIPTION:<a href='https://www.legalaiddc.org/events/second-chance-second
 -hand-event' hreflang='en'>Second Chance Second Hand Event</a>
DTSTART;TZID=America/New_York:20260425T110000
DTEND;TZID=America/New_York:20260425T140000
LAST-MODIFIED:20260423T170105Z
LOCATION:<p>The Big Chair<br>2101 Martin Luther King. Jr. Ave. SE</p>
SUMMARY:Second Chance Second Hand Event
TRANSP:OPAQUE
END:VEVENT
END:VCALENDAR
