BEGIN:VCALENDAR
VERSION:2.0
PRODID:-//https://www.legalaiddc.org//NONSGML iCalcreator 2.41.92//
CALSCALE:GREGORIAN
METHOD:PUBLISH
UID:65626435-3231-4633-b334-613466643230
X-WR-RELCALID:e7bbd1ea-d762-487a-a96d-d6a6012d1176
X-WR-TIMEZONE:America/New_York
X-WR-CALNAME:ical
BEGIN:VTIMEZONE
TZID:America/New_York
TZUNTIL:20271107T060000Z
BEGIN:STANDARD
TZNAME:EST
DTSTART:20251102T020000
TZOFFSETFROM:-0400
TZOFFSETTO:-0500
RDATE:20261101T020000
END:STANDARD
BEGIN:DAYLIGHT
TZNAME:EDT
DTSTART:20260308T020000
TZOFFSETFROM:-0500
TZOFFSETTO:-0400
RDATE:20270314T020000
END:DAYLIGHT
END:VTIMEZONE
BEGIN:VEVENT
UID:7f85df6f-d1a9-49f3-b8f2-468edf2b1600
DTSTAMP:20260423T203055Z
CLASS:PUBLIC
CREATED:20260423T170121Z
DESCRIPTION:<a href='https://www.legalaiddc.org/events/cleveland-elementary
 -block-party-and-enrollment-fair' hreflang='en'>Cleveland Elementary Block
  Party and Enrollment Fair</a>
DTSTART;TZID=America/New_York:20260425T090000
DTEND;TZID=America/New_York:20260425T130000
LAST-MODIFIED:20260423T170715Z
LOCATION:<p>Cleveland Elementary School<br>1825 8th St. NW</p>
SUMMARY:Cleveland Elementary Block Party and Enrollment Fair
TRANSP:OPAQUE
END:VEVENT
END:VCALENDAR
